BEGIN:VCALENDAR
VERSION:2.0
PRODID:-//wp-events-plugin.com//7.2.3.1//EN
TZID:America/New_York
X-WR-TIMEZONE:America/New_York
BEGIN:VEVENT
UID:140@hebrewcongregationchautauqua.org
DTSTART;TZID=America/New_York:20250817T170000
DTEND;TZID=America/New_York:20250817T200000
DTSTAMP:20250613T173657Z
URL:https://www.hebrewcongregationchautauqua.org/events/65th-anniversary-c
 elebration-buffet-dinner/
SUMMARY:65th Anniversary Celebration Buffet Dinner
DESCRIPTION:Dinner Buffet:\nAppetizers\, Salad\nUS Prime Rib\, Grilled Salm
 on with Risotto\, Chicken Marsala\, Vegetable Medley\, Gluten Free Pasta\n
 Dessert: Chocolate Mousse\n\nReservations are required by August 10th.\n\n
 Contact Burt Zucker at 216-337-7288 or bzucker831@aol.com for more informa
 tion.\n\n&nbsp\;\n\n[gravityform id="7" title="false" description="false"]
ATTACH;FMTTYPE=image/jpeg:https://www.hebrewcongregationchautauqua.org/wp-
 content/uploads/2025/05/65th-logo.png
CATEGORIES:Community Dinners
LOCATION:Chautauqua Suites\, 215 West Lake Road\, Mayville\, NY\, 14757\, U
 nited States
X-APPLE-STRUCTURED-LOCATION;VALUE=URI;X-ADDRESS=215 West Lake Road\, Mayvil
 le\, NY\, 14757\, United States;X-APPLE-RADIUS=100;X-TITLE=Chautauqua Suit
 es:geo:0,0
END:VEVENT
BEGIN:VTIMEZONE
TZID:America/New_York
X-LIC-LOCATION:America/New_York
BEGIN:DAYLIGHT
DTSTART:20250309T030000
TZOFFSETFROM:-0500
TZOFFSETTO:-0400
TZNAME:EDT
END:DAYLIGHT
END:VTIMEZONE
END:VCALENDAR