BEGIN:VCALENDAR
VERSION:2.0
PRODID:-//wp-events-plugin.com//7.2.3.1//EN
TZID:America/New_York
X-WR-TIMEZONE:America/New_York
BEGIN:VEVENT
UID:160@hebrewcongregationchautauqua.org
DTSTART;TZID=America/New_York:20250731T153000
DTEND;TZID=America/New_York:20250731T153000
DTSTAMP:20250620T174020Z
URL:https://www.hebrewcongregationchautauqua.org/events/chaplain-of-the-we
 ek-rabbi-peter-berg-meet-and-greet/
SUMMARY:Chaplain of the Week: Rabbi Peter Berg Meet and Greet
DESCRIPTION:
ATTACH;FMTTYPE=image/jpeg:https://www.hebrewcongregationchautauqua.org/wp-
 content/uploads/2025/06/rabbi-peter-berg.jpg
CATEGORIES:Special Events
LOCATION:Everett Jewish Life Center\, 36 Massey Avenue\, Chautauqua\, NY\, 
 14722\, United States
X-APPLE-STRUCTURED-LOCATION;VALUE=URI;X-ADDRESS=36 Massey Avenue\, Chautauq
 ua\, NY\, 14722\, United States;X-APPLE-RADIUS=100;X-TITLE=Everett Jewish 
 Life Center:geo:0,0
END:VEVENT
BEGIN:VTIMEZONE
TZID:America/New_York
X-LIC-LOCATION:America/New_York
BEGIN:DAYLIGHT
DTSTART:20250309T030000
TZOFFSETFROM:-0500
TZOFFSETTO:-0400
TZNAME:EDT
END:DAYLIGHT
END:VTIMEZONE
END:VCALENDAR