BEGIN:VCALENDAR
VERSION:2.0
PRODID:-//wp-events-plugin.com//7.2.3.1//EN
TZID:America/New_York
X-WR-TIMEZONE:America/New_York
BEGIN:VEVENT
UID:141@hebrewcongregationchautauqua.org
DTSTART;TZID=America/New_York:20250725T180000
DTEND;TZID=America/New_York:20250725T193000
DTSTAMP:20250719T123817Z
URL:https://www.hebrewcongregationchautauqua.org/events/community-shabbat-
 buffet-dinner/
SUMMARY:Community Shabbat Buffet Dinner
DESCRIPTION:Reservations are required by July 20th.If you need more informa
 tion contact Steve Peters at HCCShabbatdinner@gmail.com.[gravityform id="6
 " title="false" description="false"]
ATTACH;FMTTYPE=image/jpeg:https://www.hebrewcongregationchautauqua.org/wp-
 content/uploads/2025/02/community-shabbat-dinner.jpg
CATEGORIES:Community Dinners
LOCATION:Athenaeum Hotel Parlor Room\, 3 South Lake Drive\, Chautauqua\, NY
 \, 14722\, United States
X-APPLE-STRUCTURED-LOCATION;VALUE=URI;X-ADDRESS=3 South Lake Drive\, Chauta
 uqua\, NY\, 14722\, United States;X-APPLE-RADIUS=100;X-TITLE=Athenaeum Hot
 el Parlor Room:geo:0,0
END:VEVENT
BEGIN:VTIMEZONE
TZID:America/New_York
X-LIC-LOCATION:America/New_York
BEGIN:DAYLIGHT
DTSTART:20250309T030000
TZOFFSETFROM:-0500
TZOFFSETTO:-0400
TZNAME:EDT
END:DAYLIGHT
END:VTIMEZONE
END:VCALENDAR