BEGIN:VCALENDAR
VERSION:2.0
PRODID:-//wp-events-plugin.com//7.2.3.1//EN
TZID:America/New_York
X-WR-TIMEZONE:America/New_York
BEGIN:VEVENT
UID:148@hebrewcongregationchautauqua.org
DTSTART;TZID=America/New_York:20250810T190000
DTEND;TZID=America/New_York:20250810T201500
DTSTAMP:20250702T141010Z
URL:https://www.hebrewcongregationchautauqua.org/events/david-levy-i-am-ma
 hler-leonard-bernstein-and-jewish-identity/
SUMMARY:David Levy - “I am Mahler: Leonard Bernstein and Jewish Identity"
DESCRIPTION:David B. Levy is a Professor Emeritus at Wake Forest University
  in Winston-Salem\, NC. He served as Program Director of Flow House\, Wake
  Forest’s study abroad program in Vienna. He has written articles and re
 views for several journals\, including 19th Century Music\, Beethoven Foru
 m\, Historical Performance\, College Music Symposium\, and NOTES. Levy is 
 the author of Beethoven: The Ninth Symphony (Schirmer Books\, 1995\; Revis
 ed Ed.\, Yale U P\, 2003). He gives pre-concert talks before each performa
 nce of the Chautauqua Symphony Orchestra.
ATTACH;FMTTYPE=image/jpeg:https://www.hebrewcongregationchautauqua.org/wp-
 content/uploads/2025/04/david-levy.jpg
CATEGORIES:Shirley Lazarus Speaker Series
LOCATION:Smith Wilkes Hall\, 21 Foster Avenue\, Chautauqua\, NY\, 14722\, U
 nited States
X-APPLE-STRUCTURED-LOCATION;VALUE=URI;X-ADDRESS=21 Foster Avenue\, Chautauq
 ua\, NY\, 14722\, United States;X-APPLE-RADIUS=100;X-TITLE=Smith Wilkes Ha
 ll:geo:0,0
END:VEVENT
BEGIN:VTIMEZONE
TZID:America/New_York
X-LIC-LOCATION:America/New_York
BEGIN:DAYLIGHT
DTSTART:20250309T030000
TZOFFSETFROM:-0500
TZOFFSETTO:-0400
TZNAME:EDT
END:DAYLIGHT
END:VTIMEZONE
END:VCALENDAR