BEGIN:VCALENDAR
VERSION:2.0
PRODID:-//wp-events-plugin.com//7.2.3.1//EN
TZID:America/New_York
X-WR-TIMEZONE:America/New_York
BEGIN:VEVENT
UID:146@hebrewcongregationchautauqua.org
DTSTART;TZID=America/New_York:20250727T190000
DTEND;TZID=America/New_York:20250727T210000
DTSTAMP:20250601T170445Z
URL:https://www.hebrewcongregationchautauqua.org/events/documentary-i-will
 -build-this-world-with-love/
SUMMARY:Documentary : "I Will Build this World with Love”
DESCRIPTION:John Block\, producer and Cantor Meredith Greenberg\n\nJohn Blo
 ck’s I WILL BUILD THIS WORLD FROM LOVE tells the story of several young 
 women and men from the country of Georgia who aspire to practice their Jud
 aism in all its fullness and without limitation. While their impending b
 ’nai mitzvah ceremony raises the ire of Georgia’s dominant patriarchal
  orthodox Jewish community\, they find acceptance from Georgia’s former 
 Evangelical Baptist archbishop – demoted for his controversial stand aga
 inst homophobia and Islamophobia. Undaunted\, he builds a Peace Cathedral\
 , housing a church\, synagogue\, and mosque under one roof\, all in an eff
 ort to advance interfaith relations and global harmony.\n\nCantor Meredith
  Greenberg has been cantor at Temple Ner Tamid in Bloomfield\, NJ. since J
 uly 2008. Cantor Greenberg has performed professionally as a soprano soloi
 st in both Jewish and secular music genres and venues.\n\nAs a spiritual l
 eader at Temple Ner Tamid she seeks Lehavot Eish: "to spark a fire within 
 each of us by creating meaningful davening experiences through music and p
 rayer\, teaching us to open to contemplative practice\, study and connecti
 on to one another”.
ATTACH;FMTTYPE=image/jpeg:https://www.hebrewcongregationchautauqua.org/wp-
 content/uploads/2025/04/john-block.jpg
CATEGORIES:Shirley Lazarus Speaker Series
LOCATION:Smith Wilkes Hall\, 21 Foster Avenue\, Chautauqua\, NY\, 14722\, U
 nited States
X-APPLE-STRUCTURED-LOCATION;VALUE=URI;X-ADDRESS=21 Foster Avenue\, Chautauq
 ua\, NY\, 14722\, United States;X-APPLE-RADIUS=100;X-TITLE=Smith Wilkes Ha
 ll:geo:0,0
END:VEVENT
BEGIN:VTIMEZONE
TZID:America/New_York
X-LIC-LOCATION:America/New_York
BEGIN:DAYLIGHT
DTSTART:20250309T030000
TZOFFSETFROM:-0500
TZOFFSETTO:-0400
TZNAME:EDT
END:DAYLIGHT
END:VTIMEZONE
END:VCALENDAR