BEGIN:VCALENDAR
VERSION:2.0
PRODID:-//wp-events-plugin.com//7.2.3.1//EN
TZID:America/New_York
X-WR-TIMEZONE:America/New_York
BEGIN:VEVENT
UID:186@hebrewcongregationchautauqua.org
DTSTART;TZID=America/New_York:20260711T094500
DTEND;TZID=America/New_York:20260711T113000
DTSTAMP:20260410T173053Z
URL:https://www.hebrewcongregationchautauqua.org/events/follow-by-a-kiddus
 h-lunch-2026-07-11/
SUMMARY:Shabbat Morning Services
DESCRIPTION:Follow by a Kiddush lunch.
ATTACH;FMTTYPE=image/jpeg:https://www.hebrewcongregationchautauqua.org/wp-
 content/uploads/2024/05/elyse-goldstein-susie-goldberg-schwartz.jpg
CATEGORIES:Our Services
LOCATION:Hurlbut Church Sanctuary\, 21 Scott Avenue\, Chautauqua\, NY\, 147
 22\, United States
X-APPLE-STRUCTURED-LOCATION;VALUE=URI;X-ADDRESS=21 Scott Avenue\, Chautauqu
 a\, NY\, 14722\, United States;X-APPLE-RADIUS=100;X-TITLE=Hurlbut Church S
 anctuary:geo:0,0
END:VEVENT
BEGIN:VTIMEZONE
TZID:America/New_York
X-LIC-LOCATION:America/New_York
BEGIN:DAYLIGHT
DTSTART:20260308T030000
TZOFFSETFROM:-0500
TZOFFSETTO:-0400
TZNAME:EDT
END:DAYLIGHT
END:VTIMEZONE
END:VCALENDAR