BEGIN:VCALENDAR
VERSION:2.0
PRODID:-//wp-events-plugin.com//7.2.3.1//EN
TZID:America/New_York
X-WR-TIMEZONE:America/New_York
BEGIN:VEVENT
UID:147@hebrewcongregationchautauqua.org
DTSTART;TZID=America/New_York:20250803T190000
DTEND;TZID=America/New_York:20250803T203000
DTSTAMP:20250826T133014Z
URL:https://www.hebrewcongregationchautauqua.org/events/jodi-sufrin-and-ro
 y-einhorn-the-great-american-songbook-a-sentimental-journey-from-tin-pan-a
 lley-and-the-yiddish-theatre-to-broadway-and-beyond/
SUMMARY:Jodi Sufrin and Roy Einhorn - The Great American Songbook: A Sentim
 ental Journey from Tin Pan Alley and the  Yiddish Theatre to Broadway
DESCRIPTION:Cantor Emerita Jodi Sufrin and Cantor Roy Einhorn will sing and
  talk on the topic of the Jewish origins of many of the beloved songs of T
 in Pan Alley\, Broadway\, and Hollywood!Cantor Jodi Sufrin was raised in T
 oronto\, Canada. Her home upbringing and early experiences as lay cantor a
 t Holy Blossom Temple in Toronto pointed her in the direction of the canto
 rate. For many years\, Jodi sang with her older brother Kerry\, specializi
 ng in the field of Israeli folk songs. She also pursued a career as a folk
  singer\, serving as warm-up artist for Canadian songwriter and performer\
 , Dan Hill.Since her ordination in 1983\, Cantor Jodi Sufrin served as can
 tor at Temple Beth Elohim until her retirement. She now services as Cantor
  Emerita. In the mid-1980s. Cantor Sufrin participated in a group of clerg
 y and lay leaders that laid the foundation for the Rashi School.Roy Einhor
 n was the cantor at Temple Israel in Boston for more than 35 years when he
  retired and became Cantor Emeritus. Cantor Einhorn graduated from Hebrew 
 Union College - Jewish Institute of Religion School of Sacred Music in 198
 3In 1986 and 1987\, following Temple Israel’s engagement with the Soviet
  Jewry Movement\, Cantor Einhorn went on two missions to the USSR.
ATTACH;FMTTYPE=image/jpeg:https://www.hebrewcongregationchautauqua.org/wp-
 content/uploads/2025/04/photo-for-cantors-suffrin-en.jpg
CATEGORIES:Shirley Lazarus Speaker Series
LOCATION:Smith Wilkes Hall\, 21 Foster Avenue\, Chautauqua\, NY\, 14722\, U
 nited States
X-APPLE-STRUCTURED-LOCATION;VALUE=URI;X-ADDRESS=21 Foster Avenue\, Chautauq
 ua\, NY\, 14722\, United States;X-APPLE-RADIUS=100;X-TITLE=Smith Wilkes Ha
 ll:geo:0,0
END:VEVENT
BEGIN:VTIMEZONE
TZID:America/New_York
X-LIC-LOCATION:America/New_York
BEGIN:DAYLIGHT
DTSTART:20250309T030000
TZOFFSETFROM:-0500
TZOFFSETTO:-0400
TZNAME:EDT
END:DAYLIGHT
END:VTIMEZONE
END:VCALENDAR