BEGIN:VCALENDAR
VERSION:2.0
PRODID:-//wp-events-plugin.com//7.2.3.1//EN
TZID:America/New_York
X-WR-TIMEZONE:America/New_York
BEGIN:VEVENT
UID:128@hebrewcongregationchautauqua.org
DTSTART;TZID=America/New_York:20250808T170000
DTEND;TZID=America/New_York:20250808T180000
DTSTAMP:20250625T185353Z
URL:https://www.hebrewcongregationchautauqua.org/events/kabbalat-shabbat-2
 025-08-08/
SUMMARY:Kabbalat Shabbat
DESCRIPTION:Outdoors at Miller Park\n\n(Rain location: Smith Wilkes Hall)\n
 \nQuestionable weather: Call 716-SHABBAT (716-742-2228) for information o
 n service location.
ATTACH;FMTTYPE=image/jpeg:https://www.hebrewcongregationchautauqua.org/wp-
 content/uploads/2024/05/frank-muller-kathy-selbo.jpg
CATEGORIES:Our Services
END:VEVENT
BEGIN:VTIMEZONE
TZID:America/New_York
X-LIC-LOCATION:America/New_York
BEGIN:DAYLIGHT
DTSTART:20250309T030000
TZOFFSETFROM:-0500
TZOFFSETTO:-0400
TZNAME:EDT
END:DAYLIGHT
END:VTIMEZONE
END:VCALENDAR