BEGIN:VCALENDAR
VERSION:2.0
PRODID:-//wp-events-plugin.com//7.2.3.1//EN
TZID:America/New_York
X-WR-TIMEZONE:America/New_York
BEGIN:VEVENT
UID:175@hebrewcongregationchautauqua.org
DTSTART;TZID=America/New_York:20260703T170000
DTEND;TZID=America/New_York:20260703T180000
DTSTAMP:20260410T172919Z
URL:https://www.hebrewcongregationchautauqua.org/events/kabbalat-shabbat-2
 026-07-03/
SUMMARY:Kabbalat Shabbat
DESCRIPTION:Outdoors at Miller Park\n\n(Rain location: Smith Wilkes Hall)\n
 \nQuestionable weather: Call 716-SHABBAT (716-742-2228) for information o
 n service location.
ATTACH;FMTTYPE=image/jpeg:https://www.hebrewcongregationchautauqua.org/wp-
 content/uploads/2024/05/frank-muller-kathy-selbo.jpg
CATEGORIES:Our Services
LOCATION:Miller Park\, Miller Park\, Chautauqua\, NY\, 14757\, United State
 s
X-APPLE-STRUCTURED-LOCATION;VALUE=URI;X-ADDRESS=Miller Park\, Chautauqua\, 
 NY\, 14757\, United States;X-APPLE-RADIUS=100;X-TITLE=Miller Park:geo:0,0
END:VEVENT
BEGIN:VTIMEZONE
TZID:America/New_York
X-LIC-LOCATION:America/New_York
BEGIN:DAYLIGHT
DTSTART:20260308T030000
TZOFFSETFROM:-0500
TZOFFSETTO:-0400
TZNAME:EDT
END:DAYLIGHT
END:VTIMEZONE
END:VCALENDAR