BEGIN:VCALENDAR
VERSION:2.0
PRODID:-//wp-events-plugin.com//7.2.3.1//EN
TZID:America/New_York
X-WR-TIMEZONE:America/New_York
BEGIN:VEVENT
UID:143@hebrewcongregationchautauqua.org
DTSTART;TZID=America/New_York:20250706T190000
DTEND;TZID=America/New_York:20250706T201500
DTSTAMP:20250702T140926Z
URL:https://www.hebrewcongregationchautauqua.org/events/kristan-mcmahon-th
 e-supreme-court-today/
SUMMARY:Kristan McMahon - "The Supreme Court Today"
DESCRIPTION:Kristan McMahon is a non-profit leader who uses her deep curios
 ity to find the questions not only to satisfy inquiries but to bring infor
 mation to light for others. She always strives to make people think and qu
 estion their assumptions.\n\nMore than 15 years as an attorney\, she has w
 ith in-house and law firm experience\, counseling domestic and internation
 al clients on a range of legal and strategic issues. With strong presentat
 ion and client management skills\, she has proven ability to communicate c
 omplex concepts clearly and concisely\, relate to clients’ needs\, and f
 erret out information. She has helped make the world a better place by str
 engthening and guiding non-profit organizations and associations through t
 heir executive search process.
ATTACH;FMTTYPE=image/jpeg:https://www.hebrewcongregationchautauqua.org/wp-
 content/uploads/2025/04/kristen-mcmahon.jpg
CATEGORIES:Shirley Lazarus Speaker Series
LOCATION:Smith Wilkes Hall\, 21 Foster Avenue\, Chautauqua\, NY\, 14722\, U
 nited States
X-APPLE-STRUCTURED-LOCATION;VALUE=URI;X-ADDRESS=21 Foster Avenue\, Chautauq
 ua\, NY\, 14722\, United States;X-APPLE-RADIUS=100;X-TITLE=Smith Wilkes Ha
 ll:geo:0,0
END:VEVENT
BEGIN:VTIMEZONE
TZID:America/New_York
X-LIC-LOCATION:America/New_York
BEGIN:DAYLIGHT
DTSTART:20250309T030000
TZOFFSETFROM:-0500
TZOFFSETTO:-0400
TZNAME:EDT
END:DAYLIGHT
END:VTIMEZONE
END:VCALENDAR