BEGIN:VCALENDAR
VERSION:2.0
PRODID:-//wp-events-plugin.com//7.2.3.1//EN
TZID:America/New_York
X-WR-TIMEZONE:America/New_York
BEGIN:VEVENT
UID:149@hebrewcongregationchautauqua.org
DTSTART;TZID=America/New_York:20250806T123000
DTEND;TZID=America/New_York:20250806T123000
DTSTAMP:20250429T170320Z
URL:https://www.hebrewcongregationchautauqua.org/events/lunch-and-learn-br
 own-bag-special-event-gabby-deutch/
SUMMARY:Lunch and Learn Brown Bag Special Event: Gabby Deutch
DESCRIPTION:Gabby is a journalist based out of Washington\, D.C.\, and Sout
 h Florida. She is the Senior National Correspondent at Jewish Insider.\n\n
 Her reporting on topics including diplomacy and foreign policy\, American 
 politics and elections\, and modern Jewish life has appeared in The Atlant
 ic\, The Washington Post\, Tablet\, Politico Magazine\, and Wired. In Apri
 l 2023\, Jewish Insider published Gabby’s investigation into the 1984 un
 solved murder of a prominent Washington rabbi\, released in a special five
 -part series.\n\nIn recent months\, Gabby’s coverage has focused on the 
 Oct. 7 terror attacks in Israel and their fallout in the U.S. — on Amer
 ican foreign policy\, at universities\, in the music industry\, in the men
 tal health profession\, and even on dating apps. She’s also documented a
  dramatic rise in antisemitism and profiled several of the major decision-
 makers guiding the U.S. response to the war in the Middle East.\n\nGabby p
 reviously worked on The Atlantic’s global affairs team and at NewsGuard\
 , a media start-up that uses reporting and technology to combat online mis
 information. She graduated from Yale.
ATTACH;FMTTYPE=image/jpeg:https://www.hebrewcongregationchautauqua.org/wp-
 content/uploads/2025/04/gabby-deutch.jpg
CATEGORIES:Special Events
LOCATION:Everett Jewish Life Center\, 36 Massey Avenue\, Chautauqua\, NY\, 
 14722\, United States
X-APPLE-STRUCTURED-LOCATION;VALUE=URI;X-ADDRESS=36 Massey Avenue\, Chautauq
 ua\, NY\, 14722\, United States;X-APPLE-RADIUS=100;X-TITLE=Everett Jewish 
 Life Center:geo:0,0
END:VEVENT
BEGIN:VTIMEZONE
TZID:America/New_York
X-LIC-LOCATION:America/New_York
BEGIN:DAYLIGHT
DTSTART:20250309T030000
TZOFFSETFROM:-0500
TZOFFSETTO:-0400
TZNAME:EDT
END:DAYLIGHT
END:VTIMEZONE
END:VCALENDAR