BEGIN:VCALENDAR
VERSION:2.0
PRODID:-//wp-events-plugin.com//7.2.3.1//EN
TZID:America/New_York
X-WR-TIMEZONE:America/New_York
BEGIN:VEVENT
UID:154@hebrewcongregationchautauqua.org
DTSTART;TZID=America/New_York:20250719T093000
DTEND;TZID=America/New_York:20250719T113000
DTSTAMP:20250603T005431Z
URL:https://www.hebrewcongregationchautauqua.org/events/shabbat-morning-se
 rvices-2-2025-07-19/
SUMMARY:Shabbat Morning Services
DESCRIPTION:Saturday mornings in Hurlbut Sanctuary\, followed by a kiddush 
 lunch.\n\nSaturday morning services begin with Torah Study from 9:30 to 10
 :30 a.m. in the lower level of Hurlbut followed by Shabbat services from 1
 0:30 to 11:30 a.m. in Hurlbut Church Sanctuary\, Kiddush lunch to follow.
CATEGORIES:Our Services
LOCATION:Hurlbut Church Sanctuary\, 21 Scott Avenue\, Chautauqua\, NY\, 147
 22\, United States
X-APPLE-STRUCTURED-LOCATION;VALUE=URI;X-ADDRESS=21 Scott Avenue\, Chautauqu
 a\, NY\, 14722\, United States;X-APPLE-RADIUS=100;X-TITLE=Hurlbut Church S
 anctuary:geo:0,0
END:VEVENT
BEGIN:VTIMEZONE
TZID:America/New_York
X-LIC-LOCATION:America/New_York
BEGIN:DAYLIGHT
DTSTART:20250309T030000
TZOFFSETFROM:-0500
TZOFFSETTO:-0400
TZNAME:EDT
END:DAYLIGHT
END:VTIMEZONE
END:VCALENDAR