BEGIN:VCALENDAR
VERSION:2.0
PRODID:-//wp-events-plugin.com//7.2.3.1//EN
TZID:America/New_York
X-WR-TIMEZONE:America/New_York
BEGIN:VEVENT
UID:8@hebrewcongregationchautauqua.org
DTSTART;TZID=America/New_York:20240629T094500
DTEND;TZID=America/New_York:20240817T113000
DTSTAMP:20240605T011204Z
URL:https://www.hebrewcongregationchautauqua.org/event-recurring/shabbat-m
 orning-services/
SUMMARY:Shabbat Morning Services
DESCRIPTION:Hurlbut Church Sanctuary\n\nFollow by a Kiddish lunch.
CATEGORIES:Our Services
END:VEVENT
BEGIN:VTIMEZONE
TZID:America/New_York
X-LIC-LOCATION:America/New_York
BEGIN:DAYLIGHT
DTSTART:20240310T030000
TZOFFSETFROM:-0500
TZOFFSETTO:-0400
TZNAME:EDT
END:DAYLIGHT
END:VTIMEZONE
END:VCALENDAR