BEGIN:VCALENDAR
VERSION:2.0
PRODID:-//wp-events-plugin.com//7.2.3.1//EN
TZID:America/New_York
X-WR-TIMEZONE:America/New_York
BEGIN:VEVENT
UID:152@hebrewcongregationchautauqua.org
DTSTART;TZID=America/New_York:20250712T093000
DTEND;TZID=America/New_York:20250712T113000
DTSTAMP:20250620T173116Z
URL:https://www.hebrewcongregationchautauqua.org/events/shabbat-morning-wo
 rship-interfaith-outreach-learners-shabbat/
SUMMARY:Shabbat Morning Worship: Interfaith Outreach Learners Shabbat
DESCRIPTION:Shabbat morning worship during which leaders of the Chautauqua 
 interfaith community are asked to participate in our service. Rabbi Elyse 
 Goldstein and Cantor Susan Goldberg Schwartz will lead the service. All me
 mbers of the Chautauqua community are invited to our service.\n\nKiddush l
 unch to follow\n\nNote: No Torah study this week
ATTACH;FMTTYPE=image/jpeg:https://www.hebrewcongregationchautauqua.org/wp-
 content/uploads/2025/04/coexist.png
CATEGORIES:Special Services
LOCATION:Hurlbut Church Sanctuary\, 21 Scott Avenue\, Chautauqua\, NY\, 147
 22\, United States
X-APPLE-STRUCTURED-LOCATION;VALUE=URI;X-ADDRESS=21 Scott Avenue\, Chautauqu
 a\, NY\, 14722\, United States;X-APPLE-RADIUS=100;X-TITLE=Hurlbut Church S
 anctuary:geo:0,0
END:VEVENT
BEGIN:VTIMEZONE
TZID:America/New_York
X-LIC-LOCATION:America/New_York
BEGIN:DAYLIGHT
DTSTART:20250309T030000
TZOFFSETFROM:-0500
TZOFFSETTO:-0400
TZNAME:EDT
END:DAYLIGHT
END:VTIMEZONE
END:VCALENDAR