BEGIN:VCALENDAR
VERSION:2.0
PRODID:-//wp-events-plugin.com//7.2.3.1//EN
TZID:America/New_York
X-WR-TIMEZONE:America/New_York
BEGIN:VEVENT
UID:198@hebrewcongregationchautauqua.org
DTSTART;TZID=America/New_York:20260724T180000
DTEND;TZID=America/New_York:20260724T180000
DTSTAMP:20260331T163240Z
URL:https://www.hebrewcongregationchautauqua.org/events/shabbatzza-2-2026-
 07-24/
SUMMARY:Shabbat'zza
DESCRIPTION:Post-service pizza picnic in the park except on the evenings of
  Shabbat Dinners. We supply pizza! Bring your own beverage and a vegetaria
 n side dish or dessert to share.
ATTACH;FMTTYPE=image/jpeg:https://www.hebrewcongregationchautauqua.org/wp-
 content/uploads/2024/05/shabbatzza-1.jpg
CATEGORIES:Shabbat'zza
LOCATION:Miller Park\, Miller Park\, Chautauqua\, NY\, 14757\, United State
 s
X-APPLE-STRUCTURED-LOCATION;VALUE=URI;X-ADDRESS=Miller Park\, Chautauqua\, 
 NY\, 14757\, United States;X-APPLE-RADIUS=100;X-TITLE=Miller Park:geo:0,0
END:VEVENT
BEGIN:VTIMEZONE
TZID:America/New_York
X-LIC-LOCATION:America/New_York
BEGIN:DAYLIGHT
DTSTART:20260308T030000
TZOFFSETFROM:-0500
TZOFFSETTO:-0400
TZNAME:EDT
END:DAYLIGHT
END:VTIMEZONE
END:VCALENDAR